BEGIN:VCALENDAR
VERSION:2.0
X-WR-CALNAME: The New Barleycorn
PRODID:GIGPRESS 2.0 WORDPRESS PLUGIN
CALSCALE:GREGORIAN
X-WR-TIMEZONE:Etc/GMT
METHOD:PUBLISH
BEGIN:VTIMEZONE
TZID:GMT
BEGIN:STANDARD
DTSTART:20071028T010000
TZOFFSETTO:+0000
TZOFFSETFROM:+0000
END:STANDARD
END:VTIMEZONE
BEGIN:VEVENT
SUMMARY:The New Barleycorn at SLIM & CHUBBY'S\, STRONGSVILLE
DESCRIPTION:All Ages/Licensed
LOCATION:SLIM & CHUBBY'S\, STRONGSVILLE\, 12492 Prospect Road\, Strongsville\, US
UID:20260423T220000Z-501-rich@vertlift.com
URL:https://thenewbarleycorn.com/shows/
DTSTART;VALUE=DATE-TIME;TZID=GMT:20260423T220000Z
DTEND;VALUE=DATE-TIME;TZID=GMT:20260423T220000Z
DTSTAMP:20260423T022552Z
END:VEVENT
BEGIN:VEVENT
SUMMARY:The New Barleycorn at PRIVATE PARTY
DESCRIPTION:All Ages/Licensed
LOCATION:PRIVATE PARTY\, PRIVATE\, US
UID:20260503-505-rich@vertlift.com
URL:https://thenewbarleycorn.com/shows/
DTSTART;VALUE=DATE;TZID=GMT:20260503
DTEND;VALUE=DATE;TZID=GMT:20260503
DTSTAMP:20260423T022552Z
END:VEVENT
BEGIN:VEVENT
SUMMARY:The New Barleycorn at GORMLEY'S PUB
DESCRIPTION:All Ages/Licensed
LOCATION:GORMLEY'S PUB\, 19500 Center Ridge Road\, Rocky River\, US
UID:20260507T230000Z-503-rich@vertlift.com
URL:https://thenewbarleycorn.com/shows/
DTSTART;VALUE=DATE-TIME;TZID=GMT:20260507T230000Z
DTEND;VALUE=DATE-TIME;TZID=GMT:20260507T230000Z
DTSTAMP:20260423T022552Z
END:VEVENT
BEGIN:VEVENT
SUMMARY:The New Barleycorn at Cleveland Police Patrolmen's Association
DESCRIPTION:All Ages/Licensed
LOCATION:Cleveland Police Patrolmen's Association\, Pride of Erin\, 12228 Lorain Ave\, Cleveland\, US
UID:20260514-504-rich@vertlift.com
URL:https://thenewbarleycorn.com/shows/
DTSTART;VALUE=DATE;TZID=GMT:20260514
DTEND;VALUE=DATE;TZID=GMT:20260514
DTSTAMP:20260423T022552Z
END:VEVENT
BEGIN:VEVENT
SUMMARY:The New Barleycorn at Sully's Irish Pub
DESCRIPTION:All Ages/Licensed
LOCATION:Sully's Irish Pub\, 117 W. Liberty Street\, Medina\, US
UID:20260517T000000Z-506-rich@vertlift.com
URL:https://thenewbarleycorn.com/shows/
DTSTART;VALUE=DATE-TIME;TZID=GMT:20260517T000000Z
DTEND;VALUE=DATE-TIME;TZID=GMT:20260517T000000Z
DTSTAMP:20260423T022552Z
END:VEVENT
BEGIN:VEVENT
SUMMARY:The New Barleycorn at HOOLEY PUB & KITCHEN ( Strongsville ).
DESCRIPTION:All Ages/Licensed
LOCATION:HOOLEY PUB & KITCHEN ( Strongsville ).\, 500 Southpark Center\, Strongsville\, OH 44136 (at the main entrance of Southpark Mall )\, Strongsville\, US
UID:20260522T233000Z-507-rich@vertlift.com
URL:https://thenewbarleycorn.com/shows/
DTSTART;VALUE=DATE-TIME;TZID=GMT:20260522T233000Z
DTEND;VALUE=DATE-TIME;TZID=GMT:20260522T233000Z
DTSTAMP:20260423T022552Z
END:VEVENT
BEGIN:VEVENT
SUMMARY:The New Barleycorn at Gandalf's Pub
DESCRIPTION:All Ages/Licensed
LOCATION:Gandalf's Pub\, 6757 Center Road\, Valley City\, US
UID:20260524T190000Z-508-rich@vertlift.com
URL:https://thenewbarleycorn.com/shows/
DTSTART;VALUE=DATE-TIME;TZID=GMT:20260524T190000Z
DTEND;VALUE=DATE-TIME;TZID=GMT:20260524T190000Z
DTSTAMP:20260423T022552Z
END:VEVENT
END:VCALENDAR